{
 "currentVersion": 11.5,
 "cimVersion": "3.5.0",
 "serviceDescription": " 4-band/6-inch pixel resolution orthomosaic of Dodge County, WI flown in Spring 2026 as part of the Wisconsin Regional Orthoimagery Consortium (WROC).<\/span><\/p><\/div><\/div><\/div>",
 "mapName": "Aerial_2026",
 "description": "4-band/6-inch pixel resolution orthomosaic of Dodge County, WI flown in Spring 2026 as part of the Wisconsin Regional Orthoimagery Consortium (WROC).",
 "copyrightText": "Dodge County Land Resources & Parks",
 "supportsDynamicLayers": false,
 "layers": [
  {
   "id": 0,
   "name": "2026_DodgeCo_Mosaic_RGB_HARN_G3.sid",
   "parentLayerId": -1,
   "defaultVisibility": true,
   "subLayerIds": null,
   "minScale": 0,
   "maxScale": 0,
   "type": "Raster Layer",
   "supportsDynamicLegends": true
  }
 ],
 "tables": [],
 "spatialReference": {
  "wkid": 103413,
  "latestWkid": 103413,
  "vcsWkid": 105703,
  "latestVcsWkid": 6360,
  "xyTolerance": 0.003280833333333333,
  "zTolerance": 0.001,
  "mTolerance": 0.001,
  "falseX": -17585200,
  "falseY": -47885700,
  "xyUnits": 3048.0060960121928,
  "falseZ": -100000,
  "zUnits": 3048.006096012192,
  "falseM": -100000,
  "mUnits": 10000
 },
 "singleFusedMapCache": true,
 "tileInfo": {
  "rows": 256,
  "cols": 256,
  "dpi": 96,
  "format": "MIXED",
  "compressionQuality": 75,
  "origin": {
   "x": -17585200,
   "y": 1.7746900000000007E7
  },
  "spatialReference": {
   "wkid": 103413,
   "latestWkid": 103413,
   "vcsWkid": 105703,
   "latestVcsWkid": 6360,
   "xyTolerance": 0.003280833333333333,
   "zTolerance": 0.003280833333333333,
   "mTolerance": 0.001,
   "falseX": -17585200,
   "falseY": -47885700,
   "xyUnits": 3048.0060960121928,
   "falseZ": -100000,
   "zUnits": 3048.006096012192,
   "falseM": -100000,
   "mUnits": 10000
  },
  "lods": [
   {
    "level": 0,
    "resolution": 434.02777777777777,
    "scale": 500000
   },
   {
    "level": 1,
    "resolution": 217.01388888888889,
    "scale": 250000
   },
   {
    "level": 2,
    "resolution": 86.80555555555556,
    "scale": 100000
   },
   {
    "level": 3,
    "resolution": 41.666666666666664,
    "scale": 48000
   },
   {
    "level": 4,
    "resolution": 20.833333333333332,
    "scale": 24000
   },
   {
    "level": 5,
    "resolution": 10.416666666666666,
    "scale": 12000
   },
   {
    "level": 6,
    "resolution": 5.208333333333333,
    "scale": 6000
   },
   {
    "level": 7,
    "resolution": 4.166666666666666,
    "scale": 4800
   },
   {
    "level": 8,
    "resolution": 3.125,
    "scale": 3600
   },
   {
    "level": 9,
    "resolution": 2.083333333333333,
    "scale": 2400
   },
   {
    "level": 10,
    "resolution": 1.0416666666666665,
    "scale": 1200
   },
   {
    "level": 11,
    "resolution": 0.5208333333333333,
    "scale": 600
   }
  ]
 },
 "storageInfo": {
  "storageFormat": "esriMapCacheStorageModeCompactV2",
  "packetSize": 128
 },
 "initialExtent": {
  "xmin": 739115.5113854879,
  "ymin": 614499.1616588401,
  "xmax": 1017644.9659896197,
  "ymax": 805259.7274936085,
  "spatialReference": {
   "wkid": 103413,
   "latestWkid": 103413,
   "vcsWkid": 105703,
   "latestVcsWkid": 6360,
   "xyTolerance": 0.003280833333333333,
   "zTolerance": 0.001,
   "mTolerance": 0.001,
   "falseX": -17585200,
   "falseY": -47885700,
   "xyUnits": 3048.0060960121928,
   "falseZ": -100000,
   "zUnits": 3048.006096012192,
   "falseM": -100000,
   "mUnits": 10000
  }
 },
 "fullExtent": {
  "xmin": 801039.739,
  "ymin": 627422.14,
  "xmax": 963938.739,
  "ymax": 788230.14,
  "spatialReference": {
   "wkid": 103413,
   "latestWkid": 103413,
   "vcsWkid": 105703,
   "latestVcsWkid": 6360,
   "xyTolerance": 0.003280833333333333,
   "zTolerance": 0.001,
   "mTolerance": 0.001,
   "falseX": -17585200,
   "falseY": -47885700,
   "xyUnits": 3048.0060960121928,
   "falseZ": -100000,
   "zUnits": 3048.006096012192,
   "falseM": -100000,
   "mUnits": 10000
  }
 },
 "datesInUnknownTimezone": false,
 "minScale": 500000,
 "maxScale": 0,
 "minLOD": 0,
 "maxLOD": 11,
 "units": "esriFeet",
 "supportedImageFormatTypes": "PNG32,PNG24,PNG,JPG,DIB,TIFF,EMF,PS,PDF,GIF,SVG,SVGZ,BMP",
 "documentInfo": {
  "Title": "Aerial_2026",
  "Author": "",
  "Comments": "4-band/6-inch pixel resolution orthomosaic of Dodge County, WI flown in Spring 2026 as part of the Wisconsin Regional Orthoimagery Consortium (WROC).",
  "Subject": "4-band/6-inch pixel resolution orthomosaic of Dodge County, WI flown in Spring 2026 as part of the Wisconsin Regional Orthoimagery Consortium (WROC).",
  "Category": "",
  "Version": "3.5.0",
  "AntialiasingMode": "Fast",
  "TextAntialiasingMode": "Force",
  "Keywords": "digital,4-band,orthoimagery,6-inch,aerial"
 },
 "supportsQueryDomains": true,
 "capabilities": "Map",
 "supportedQueryFormats": "JSON, geoJSON, PBF",
 "exportTilesAllowed": false,
 "referenceScale": 0.0,
 "datumTransformations": [
  {
   "geoTransforms": [
    {
     "wkid": 1580,
     "latestWkid": 1580,
     "transformForward": false,
     "name": "NAD_1983_HARN_To_WGS_1984"
    }
   ]
  },
  {
   "geoTransforms": [
    {
     "wkid": 1580,
     "latestWkid": 1580,
     "transformForward": true,
     "name": "NAD_1983_HARN_To_WGS_1984"
    }
   ]
  },
  {
   "geoTransforms": [
    {
     "wkid": 1580,
     "latestWkid": 1580,
     "transformForward": false,
     "name": "NAD_1983_HARN_To_WGS_1984"
    }
   ]
  },
  {
   "geoTransforms": [
    {
     "wkid": 1580,
     "latestWkid": 1580,
     "transformForward": true,
     "name": "NAD_1983_HARN_To_WGS_1984"
    }
   ]
  }
 ],
 "supportsDatumTransformation": true,
 "floorAwareMapProperties": {
  "defaultFloorFilterSettings": {
   "isEnabled": false
  }
 },
 "heightModelInfo": {
  "heightModel": "gravity_related_height",
  "vertCRS": "NAVD88_height_(ftUS)",
  "heightUnit": "us-foot"
 },
 "supportsVCSProjection": true,
 "archivingInfo": {
  "supportsHistoricMoment": false
 },
 "supportsClipping": true,
 "supportsSpatialFilter": true,
 "supportsTimeRelation": true,
 "supportsQueryDataElements": true,
 "mapUnits": {
  "uwkid": 9003
 },
 "maxSelectionCount": 2000,
 "maxRecordCount": 2000,
 "maxImageHeight": 4096,
 "maxImageWidth": 4096,
 "supportedExtensions": "",
 "resampling": true,
 "serviceItemId": "1d01226961dc43a196f48367bf4d71a2"
}
