{ "currentVersion": 11.5, "cimVersion": "3.5.0", "serviceDescription": "2-foot and 10-foot elevation contours for Dodge County, WI derived from a 2017 LiDAR flight. Bare earth LiDAR returns were processed into a 10-foot cell size DEM from which the 2-foot contours were generated. No break lines were included.", "mapName": "Contours", "description": "
2-foot and 10-foot elevation contours for Dodge County, WI derived from a 2017 LiDAR flight. Bare earth LiDAR returns were processed into a 10-foot cell size DEM from which the 2-foot contours were generated. No break lines were included.<\/SPAN><\/P><\/DIV>",
"copyrightText": "Dodge County Land Resources & Parks",
"supportsDynamicLayers": false,
"layers": [
{
"id": 0,
"name": "10-Foot Contours (2017)",
"parentLayerId": -1,
"defaultVisibility": true,
"subLayerIds": null,
"minScale": 6000,
"maxScale": 0,
"type": "Feature Layer",
"geometryType": "esriGeometryPolyline",
"supportsDynamicLegends": true
},
{
"id": 1,
"name": "2-Foot Contours (2017)",
"parentLayerId": -1,
"defaultVisibility": true,
"subLayerIds": null,
"minScale": 6000,
"maxScale": 0,
"type": "Feature Layer",
"geometryType": "esriGeometryPolyline",
"supportsDynamicLegends": true
}
],
"tables": [],
"spatialReference": {
"wkid": 103413,
"latestWkid": 103413,
"xyTolerance": 0.003280833333333333,
"zTolerance": 0.001,
"mTolerance": 0.001,
"falseX": -17585200,
"falseY": -47885700,
"xyUnits": 3048.0060960121928,
"falseZ": -100000,
"zUnits": 10000,
"falseM": -100000,
"mUnits": 10000
},
"singleFusedMapCache": true,
"tileInfo": {
"rows": 256,
"cols": 256,
"dpi": 96,
"format": "MIXED",
"compressionQuality": 75,
"origin": {
"x": -17585200,
"y": 1.7746900000000007E7
},
"spatialReference": {
"wkid": 103413,
"latestWkid": 103413,
"xyTolerance": 0.003280833333333333,
"zTolerance": 0.001,
"mTolerance": 0.001,
"falseX": -17585200,
"falseY": -47885700,
"xyUnits": 3048.0060960121928,
"falseZ": -100000,
"zUnits": 10000,
"falseM": -100000,
"mUnits": 10000
},
"lods": [
{
"level": 0,
"resolution": 434.02777777777777,
"scale": 500000
},
{
"level": 1,
"resolution": 217.01388888888889,
"scale": 250000
},
{
"level": 2,
"resolution": 86.80555555555556,
"scale": 100000
},
{
"level": 3,
"resolution": 41.666666666666664,
"scale": 48000
},
{
"level": 4,
"resolution": 20.833333333333332,
"scale": 24000
},
{
"level": 5,
"resolution": 10.416666666666666,
"scale": 12000
},
{
"level": 6,
"resolution": 5.208333333333333,
"scale": 6000
},
{
"level": 7,
"resolution": 4.166666666666666,
"scale": 4800
},
{
"level": 8,
"resolution": 3.125,
"scale": 3600
},
{
"level": 9,
"resolution": 2.083333333333333,
"scale": 2400
},
{
"level": 10,
"resolution": 1.0416666666666665,
"scale": 1200
},
{
"level": 11,
"resolution": 0.5208333333333333,
"scale": 600
}
]
},
"storageInfo": {
"storageFormat": "esriMapCacheStorageModeCompactV2",
"packetSize": 128
},
"initialExtent": {
"xmin": 762380.3125000019,
"ymin": 618326.7708333334,
"xmax": 1002614.6875000019,
"ymax": 797363.2291666666,
"spatialReference": {
"wkid": 103413,
"latestWkid": 103413,
"xyTolerance": 0.003280833333333333,
"zTolerance": 0.001,
"mTolerance": 0.001,
"falseX": -17585200,
"falseY": -47885700,
"xyUnits": 3048.0060960121928,
"falseZ": -100000,
"zUnits": 10000,
"falseM": -100000,
"mUnits": 10000
}
},
"fullExtent": {
"xmin": 801600,
"ymin": 627962.4999999925,
"xmax": 963395.0000000037,
"ymax": 787727.5000000075,
"spatialReference": {
"wkid": 103413,
"latestWkid": 103413,
"xyTolerance": 0.003280833333333333,
"zTolerance": 0.001,
"mTolerance": 0.001,
"falseX": -17585200,
"falseY": -47885700,
"xyUnits": 3048.0060960121928,
"falseZ": -100000,
"zUnits": 10000,
"falseM": -100000,
"mUnits": 10000
}
},
"datesInUnknownTimezone": false,
"minScale": 500000,
"maxScale": 600,
"minLOD": 0,
"maxLOD": 11,
"units": "esriFeet",
"supportedImageFormatTypes": "PNG32,PNG24,PNG,JPG,DIB,TIFF,EMF,PS,PDF,GIF,SVG,SVGZ,BMP",
"documentInfo": {
"Title": "Contours_2017",
"Author": "",
"Comments": " 2-foot and 10-foot elevation contours for Dodge County, WI derived from a 2017 LiDAR flight. Bare earth LiDAR returns were processed into a 10-foot cell size DEM from which the 2-foot contours were generated. No break lines were included.<\/SPAN><\/P><\/DIV>",
"Subject": "2-foot and 10-foot elevation contours for Dodge County, WI",
"Category": "",
"Version": "3.0.0",
"AntialiasingMode": "Fast",
"TextAntialiasingMode": "Force",
"Keywords": "elevation,contours,lidar"
},
"supportsQueryDomains": true,
"capabilities": "Map,Query,Data",
"supportedQueryFormats": "JSON, geoJSON, PBF",
"exportTilesAllowed": false,
"referenceScale": 0.0,
"datumTransformations": [
{
"geoTransforms": [
{
"wkid": 1580,
"latestWkid": 1580,
"transformForward": false,
"name": "NAD_1983_HARN_To_WGS_1984"
}
]
},
{
"geoTransforms": [
{
"wkid": 1580,
"latestWkid": 1580,
"transformForward": true,
"name": "NAD_1983_HARN_To_WGS_1984"
}
]
},
{
"geoTransforms": [
{
"wkid": 1580,
"latestWkid": 1580,
"transformForward": false,
"name": "NAD_1983_HARN_To_WGS_1984"
}
]
},
{
"geoTransforms": [
{
"wkid": 1580,
"latestWkid": 1580,
"transformForward": true,
"name": "NAD_1983_HARN_To_WGS_1984"
}
]
}
],
"supportsDatumTransformation": true,
"archivingInfo": {"supportsHistoricMoment": false},
"supportsClipping": true,
"supportsSpatialFilter": true,
"supportsTimeRelation": true,
"supportsQueryDataElements": true,
"mapUnits": {"uwkid": 9003},
"maxSelectionCount": 2000,
"maxRecordCount": 2000,
"maxImageHeight": 4096,
"maxImageWidth": 4096,
"supportedExtensions": "",
"resampling": false,
"serviceItemId": "e16a5118852245fe9a5c37e314d4e7a1"
}