View In:
ArcGIS JavaScript
ArcGIS Online Map Viewer
ArcGIS Earth
Service Description: Ortho/Aerial_2006
Name: Ortho/Aerial_2006
Description:
Single Fused Map Cache: true
Tile Info:
- Height: 256
- Width: 256
- DPI: 96
-
Levels of Detail: 12
- Format: MIXED
- Compression Quality: 75.0
- LERC Error: NaN
- Origin: X: -1.75852E7
Y: 1.7746900000000007E7
- Spatial Reference: 103413
(103413)
LatestVCSWkid(0)
Storage Info:
- Storage Format: esriMapCacheStorageModeCompactV2
- Packet Size: 128
Extent:
XMin: 800150.0
YMin: 626470.0
XMax: 966400.0
YMax: 789190.0
Spatial Reference: 103413
(103413)
LatestVCSWkid(0)
Initial Extent:
XMin: 800150.0
YMin: 626470.0
XMax: 966400.0
YMax: 789190.0
Spatial Reference: 103413
(103413)
LatestVCSWkid(0)
Full Extent:
XMin: 800150.0
YMin: 626470.0
XMax: 966400.0
YMax: 789190.0
Spatial Reference: 103413
(103413)
LatestVCSWkid(0)
Pixel Size X: 0.5
Pixel Size Y: 0.5
Band Count: 3
Pixel Type: U8
RasterFunction Infos: {"rasterFunctionInfos": [{
"name": "None",
"description": "",
"help": ""
}]}
Mensuration Capabilities: Basic
Inspection Capabilities:
Has Histograms: true
Has Colormap: false
Has Multi Dimensions : false
Rendering Rule:
Min Scale: 0
Max Scale: 0
Min LOD: 0
Max LOD: 11
Resampling: false
Copyright Text:
Service Data Type: esriImageServiceDataTypeRGB
Min Values: 0, 0, 0
Max Values: 189, 184, 181
Mean Values: 118.57743902439, 118.43231707317, 106.25594512195
Standard Deviation Values: 29.530262126271, 29.117251268972, 27.979307652776
Object ID Field:
Fields:
None
Default Mosaic Method: Center
Allowed Mosaic Methods:
SortField:
SortValue: null
Mosaic Operator: First
Default Compression Quality: 75
Default Resampling Method: Bilinear
Max Record Count: null
Max Image Height: 4100
Max Image Width: 15000
Max Download Image Count: null
Max Mosaic Image Count: null
Allow Raster Function: true
Allow Copy: true
Allow Analysis: true
Allow Compute TiePoints: false
Supports Statistics: false
Supports Advanced Queries: false
Use StandardizedQueries: true
Raster Type Infos:
Name: Raster Dataset
Description: Supports all ArcGIS Raster Datasets
Help:
Has Raster Attribute Table: false
Edit Fields Info: null
Ownership Based AccessControl For Rasters: null
Child Resources:
Info
Histograms
Statistics
Key Properties
Legend
Raster Function Infos
Supported Operations:
Export Image
Identify
Measure
Compute Histograms
Compute Statistics Histograms
Get Samples
Compute Class Statistics
Query Boundary
Compute Pixel Location
Compute Angles
Validate
Project