View In:
ArcGIS JavaScript
ArcGIS Online Map Viewer
ArcGIS Earth
Service Description: Ortho/Aerial_2023
Name: Ortho/Aerial_2023
Description:
Single Fused Map Cache: true
Tile Info:
- Height: 256
- Width: 256
- DPI: 96
-
Levels of Detail: 12
- Format: MIXED
- Compression Quality: 75.0
- LERC Error: NaN
- Origin: X: -1.75852E7
Y: 1.7746900000000007E7
- Spatial Reference: 103413
(103413)
VCSWkid(105703)
LatestVCSWkid(6360)
Storage Info:
- Storage Format: esriMapCacheStorageModeCompactV2
- Packet Size: 128
Extent:
XMin: 801039.739
YMin: 627422.14
XMax: 963938.739
YMax: 788230.14
Spatial Reference: 103413
(103413)
VCSWkid(105703)
LatestVCSWkid(6360)
Initial Extent:
XMin: 801039.739
YMin: 627422.14
XMax: 963938.739
YMax: 788230.14
Spatial Reference: 103413
(103413)
VCSWkid(105703)
LatestVCSWkid(6360)
Full Extent:
XMin: 801039.739
YMin: 627422.14
XMax: 963938.739
YMax: 788230.14
Spatial Reference: 103413
(103413)
VCSWkid(105703)
LatestVCSWkid(6360)
Pixel Size X: 0.5
Pixel Size Y: 0.5
Band Count: 5
Pixel Type: U8
RasterFunction Infos: {"rasterFunctionInfos": [{
"name": "None",
"description": "",
"help": ""
}]}
Mensuration Capabilities: Basic
Inspection Capabilities:
Has Histograms: true
Has Colormap: false
Has Multi Dimensions : false
Rendering Rule:
Min Scale: 500000
Max Scale: 600
Min LOD: 0
Max LOD: 11
Resampling: false
Copyright Text:
Service Data Type: esriImageServiceDataTypeGeneric
Min Values: 0, 0, 0, 0, 0
Max Values: 214, 202, 195, 203, 255
Mean Values: 113.52943037975, 110.63465189873, 100.77025316456, 113.39715189873, 247.75743670886
Standard Deviation Values: 34.342943109869, 31.493739108645, 27.316460029504, 33.41272200657, 37.517234753592
Object ID Field:
Fields:
None
Default Mosaic Method: Center
Allowed Mosaic Methods:
SortField:
SortValue: null
Mosaic Operator: First
Default Compression Quality: 75
Default Resampling Method: Bilinear
Max Record Count: null
Max Image Height: 4100
Max Image Width: 15000
Max Download Image Count: null
Max Mosaic Image Count: null
Allow Raster Function: true
Allow Copy: true
Allow Analysis: true
Allow Compute TiePoints: false
Supports Statistics: false
Supports Advanced Queries: false
Use StandardizedQueries: true
Raster Type Infos:
Name: Raster Dataset
Description: Supports all ArcGIS Raster Datasets
Help:
Has Raster Attribute Table: false
Edit Fields Info: null
Ownership Based AccessControl For Rasters: null
Child Resources:
Info
Histograms
Statistics
Key Properties
Legend
Raster Function Infos
Supported Operations:
Export Image
Identify
Measure
Compute Histograms
Compute Statistics Histograms
Get Samples
Compute Class Statistics
Query Boundary
Compute Pixel Location
Compute Angles
Validate
Project